BEGIN:VCALENDAR
VERSION:2.0
PRODID:-//Mountain Cloud Zen Center - ECPv6.15.20//NONSGML v1.0//EN
CALSCALE:GREGORIAN
METHOD:PUBLISH
X-WR-CALNAME:Mountain Cloud Zen Center
X-ORIGINAL-URL:https://www.mountaincloud.org
X-WR-CALDESC:Events for Mountain Cloud Zen Center
REFRESH-INTERVAL;VALUE=DURATION:PT1H
X-Robots-Tag:noindex
X-PUBLISHED-TTL:PT1H
BEGIN:VTIMEZONE
TZID:America/Denver
BEGIN:DAYLIGHT
TZOFFSETFROM:-0700
TZOFFSETTO:-0600
TZNAME:MDT
DTSTART:20240310T090000
END:DAYLIGHT
BEGIN:STANDARD
TZOFFSETFROM:-0600
TZOFFSETTO:-0700
TZNAME:MST
DTSTART:20241103T080000
END:STANDARD
BEGIN:DAYLIGHT
TZOFFSETFROM:-0700
TZOFFSETTO:-0600
TZNAME:MDT
DTSTART:20250309T090000
END:DAYLIGHT
BEGIN:STANDARD
TZOFFSETFROM:-0600
TZOFFSETTO:-0700
TZNAME:MST
DTSTART:20251102T080000
END:STANDARD
BEGIN:DAYLIGHT
TZOFFSETFROM:-0700
TZOFFSETTO:-0600
TZNAME:MDT
DTSTART:20260308T090000
END:DAYLIGHT
BEGIN:STANDARD
TZOFFSETFROM:-0600
TZOFFSETTO:-0700
TZNAME:MST
DTSTART:20261101T080000
END:STANDARD
END:VTIMEZONE
BEGIN:VEVENT
DTSTART;TZID=America/Denver:20250116T173000
DTEND;TZID=America/Denver:20250116T190000
DTSTAMP:20260420T043737
CREATED:20250106T180706Z
LAST-MODIFIED:20250114T162255Z
UID:44642-1737048600-1737054000@www.mountaincloud.org
SUMMARY:Dharma Talk: "The Path to Discernment" with Carolyn Seburn
DESCRIPTION:Thursday\, January 16th  |  5:30–7:00 PM\nMeditation begins at 5:30 pm MT\, followed by the Dharma Talk (teisho) at 6:00 pm MT. \nYou are invited to join us for an evening with Carolyn Seburn at Mountain Cloud Zen Center’s zendo\, where she will be leading the Dharma Talk titled\, “The Path to Discernment.” Carolyn will discuss Mumonkan case 11: Jôshû Examines the Hermits as an invitation to examine and trust our own discernment. This hybrid event is free and registration is not required. Please arrive five to ten minutes ahead of the scheduled time. \nTo participate online\, please click on the zoom link below.\n \nsit.mountaincloud.org\nPasscode: mountain22 \nTrouble logging on to our online sits? Click here for guidance. Need help with time zone conversion? Use the World Time Buddy . \nIf you miss a dharma talk\, you can find it on our YouTube channel within one to two weeks. \nKindly consider contributing dana (a traditional Buddhist offering) to express financial gratitude to our visiting teacher. For those in Canada\, dana can be made through e-transfer to mountainmoonottawa@gmail.com. For others\, dana can be sent to Mountain Cloud through our donation page. \n∞ \nCarolyn Seburn is a Zen Teacher based in Ontario and a regular teacher in our hybrid/online events. \nShe provides online dokusan to our members and during our 6-day retreats\, dharma talks\, and workshops for our 30 Days of Zen Course. \nShe is an authorized Dharma successor of Roselyn Stone (Sei’un An – Clearing Away the Clouds) Rôshi of the Mountain Moon Sangha (Toronto and Brisbane). She has been practicing Zen meditation since 1985 and guiding Zen practice since 2015. Married\, with one offspring\, Carolyn is also a biologist and public servant who focuses on wildlife conservation. Carolyn is also appointed a Zen teacher with Sanbo Zen International. \n∞ \nDharma Talk often referred to as a “teisho” in Zen Buddhism\, is a discourse or lecture given by a teacher to convey teachings on Buddhist philosophy\, principles\, and practice. During a Dharma talk\, the teacher may explore various aspects of Buddhist doctrine\, share insights from personal experience\, and offer guidance to the audience on how to apply these teachings in their lives. The purpose is to deepen understanding\, inspire contemplation\, and support the development of mindfulness and wisdom among the practitioners.
URL:https://www.mountaincloud.org/event/dharma-talk-carolyn-seburn-01-16-25/
LOCATION:Mountain Cloud Zen Center and Online via Zoom
CATEGORIES:Dharma,Talks & Workshops
ATTACH;FMTTYPE=image/webp:https://www.mountaincloud.org/wp-content/uploads/2024/01/Carolyn-Seburn-Sm-crop.webp
END:VEVENT
END:VCALENDAR