BEGIN:VCALENDAR
VERSION:2.0
PRODID:-//Mountain Cloud Zen Center - ECPv6.15.20//NONSGML v1.0//EN
CALSCALE:GREGORIAN
METHOD:PUBLISH
X-WR-CALNAME:Mountain Cloud Zen Center
X-ORIGINAL-URL:https://www.mountaincloud.org
X-WR-CALDESC:Events for Mountain Cloud Zen Center
REFRESH-INTERVAL;VALUE=DURATION:PT1H
X-Robots-Tag:noindex
X-PUBLISHED-TTL:PT1H
BEGIN:VTIMEZONE
TZID:America/Denver
BEGIN:DAYLIGHT
TZOFFSETFROM:-0700
TZOFFSETTO:-0600
TZNAME:MDT
DTSTART:20230312T090000
END:DAYLIGHT
BEGIN:STANDARD
TZOFFSETFROM:-0600
TZOFFSETTO:-0700
TZNAME:MST
DTSTART:20231105T080000
END:STANDARD
BEGIN:DAYLIGHT
TZOFFSETFROM:-0700
TZOFFSETTO:-0600
TZNAME:MDT
DTSTART:20240310T090000
END:DAYLIGHT
BEGIN:STANDARD
TZOFFSETFROM:-0600
TZOFFSETTO:-0700
TZNAME:MST
DTSTART:20241103T080000
END:STANDARD
BEGIN:DAYLIGHT
TZOFFSETFROM:-0700
TZOFFSETTO:-0600
TZNAME:MDT
DTSTART:20250309T090000
END:DAYLIGHT
BEGIN:STANDARD
TZOFFSETFROM:-0600
TZOFFSETTO:-0700
TZNAME:MST
DTSTART:20251102T080000
END:STANDARD
END:VTIMEZONE
BEGIN:VEVENT
DTSTART;TZID=America/Denver:20241226T173000
DTEND;TZID=America/Denver:20241226T190000
DTSTAMP:20260422T102146
CREATED:20241113T005441Z
LAST-MODIFIED:20241113T005441Z
UID:44312-1735234200-1735239600@www.mountaincloud.org
SUMMARY:*NO* Dharma Talk (Evening Closure for the Holidays)
DESCRIPTION:No Dharma Talk happening on December 26th\, 2024. Mountain Cloud will be closed in the afternoon and evening for the holidays.  \nPlease join us in the morning for our hybrid Zazen sit\, and the regular sitting schedule will resume Friday morning\, December 27th.
URL:https://www.mountaincloud.org/event/no-dharma-talk-evening-closure-for-holidays/
END:VEVENT
END:VCALENDAR