BEGIN:VCALENDAR
VERSION:2.0
PRODID:-//Mountain Cloud Zen Center - ECPv6.15.20//NONSGML v1.0//EN
CALSCALE:GREGORIAN
METHOD:PUBLISH
X-WR-CALNAME:Mountain Cloud Zen Center
X-ORIGINAL-URL:https://www.mountaincloud.org
X-WR-CALDESC:Events for Mountain Cloud Zen Center
REFRESH-INTERVAL;VALUE=DURATION:PT1H
X-Robots-Tag:noindex
X-PUBLISHED-TTL:PT1H
BEGIN:VTIMEZONE
TZID:America/Denver
BEGIN:DAYLIGHT
TZOFFSETFROM:-0700
TZOFFSETTO:-0600
TZNAME:MDT
DTSTART:20220313T090000
END:DAYLIGHT
BEGIN:STANDARD
TZOFFSETFROM:-0600
TZOFFSETTO:-0700
TZNAME:MST
DTSTART:20221106T080000
END:STANDARD
BEGIN:DAYLIGHT
TZOFFSETFROM:-0700
TZOFFSETTO:-0600
TZNAME:MDT
DTSTART:20230312T090000
END:DAYLIGHT
BEGIN:STANDARD
TZOFFSETFROM:-0600
TZOFFSETTO:-0700
TZNAME:MST
DTSTART:20231105T080000
END:STANDARD
BEGIN:DAYLIGHT
TZOFFSETFROM:-0700
TZOFFSETTO:-0600
TZNAME:MDT
DTSTART:20240310T090000
END:DAYLIGHT
BEGIN:STANDARD
TZOFFSETFROM:-0600
TZOFFSETTO:-0700
TZNAME:MST
DTSTART:20241103T080000
END:STANDARD
END:VTIMEZONE
BEGIN:VEVENT
DTSTART;TZID=America/Denver:20230330T173000
DTEND;TZID=America/Denver:20230330T190000
DTSTAMP:20260423T030027
CREATED:20230313T211707Z
LAST-MODIFIED:20230313T220252Z
UID:40531-1680197400-1680202800@www.mountaincloud.org
SUMMARY:Thursday Evening Event with Natalie Goldberg\,  March 30
DESCRIPTION:Welcome back to teacher\, writer and artist\, Natalie Goldberg. She will offer a dharma talk in our Zendo on Thursday March 30\, 2023. \nThursday March 30 Event\nSitting: 5:30pm MT\nNatalie’s Dharmatalk: 6pm MT \nZoom Link for online attendance\nsit.mountaincloud.org\nPasscode: mountain22 \nThis event will be a hybrid event with sitting in our physical zendo as well as streamed online on zoom. No registration required and no cost. Dana is always appreciated for the teacher and donations for Mountain Cloud.  Leave dana as cash for Natalie at Mountain Cloud for those who attend in person. \nNatalie Goldberg is the author of fifteen books\, including Writing Down the Bones (Shambhala\, 1986)\, which has sold over one million copies\, has been translated into fourteen languages\, and started a revolution in the way we practice writing in this country. Her most recent Books is Three Simple Lines: A writer’s Pilgrimage into the Heart and Homeland of Haiku. \nNatalie is also a prolific painter. Her book Living Color: Painting\, Writing\, and the Bones of Seeing(Abrams\, 2014)\, describes painting as her second art form. Top of My Lungs (Overlook Press\, 2004) contains forty poems\, twenty of her paintings in color\, and an essay\, “How Poetry Saved My Life.” Natalie’s paintings are available to view on this website. \nFor more than forty years Natalie has practiced zen and taught seminars in writing as a practice. People from around the world attend her life-changing workshops\, and she has earned a reputation as a great teacher. The Oprah Winfrey Show sent a film crew to spend the day with Natalie for a segment on Spirituality that covered her writing\, teaching\, painting\, and walking meditation. She lives in Northern New Mexico. \n 
URL:https://www.mountaincloud.org/event/thursday-evening-event-with-natalie-goldberg-march-30/
CATEGORIES:Community Events,Special Events,Weekly/Daily Event
ATTACH;FMTTYPE=image/jpeg:https://www.mountaincloud.org/wp-content/uploads/2023/03/NatalieG-smaller.jpeg
END:VEVENT
END:VCALENDAR