BEGIN:VCALENDAR
VERSION:2.0
PRODID:-//Mountain Cloud Zen Center - ECPv6.15.20//NONSGML v1.0//EN
CALSCALE:GREGORIAN
METHOD:PUBLISH
X-WR-CALNAME:Mountain Cloud Zen Center
X-ORIGINAL-URL:https://www.mountaincloud.org
X-WR-CALDESC:Events for Mountain Cloud Zen Center
REFRESH-INTERVAL;VALUE=DURATION:PT1H
X-Robots-Tag:noindex
X-PUBLISHED-TTL:PT1H
BEGIN:VTIMEZONE
TZID:America/Denver
BEGIN:DAYLIGHT
TZOFFSETFROM:-0700
TZOFFSETTO:-0600
TZNAME:MDT
DTSTART:20240310T090000
END:DAYLIGHT
BEGIN:STANDARD
TZOFFSETFROM:-0600
TZOFFSETTO:-0700
TZNAME:MST
DTSTART:20241103T080000
END:STANDARD
BEGIN:DAYLIGHT
TZOFFSETFROM:-0700
TZOFFSETTO:-0600
TZNAME:MDT
DTSTART:20250309T090000
END:DAYLIGHT
BEGIN:STANDARD
TZOFFSETFROM:-0600
TZOFFSETTO:-0700
TZNAME:MST
DTSTART:20251102T080000
END:STANDARD
BEGIN:DAYLIGHT
TZOFFSETFROM:-0700
TZOFFSETTO:-0600
TZNAME:MDT
DTSTART:20260308T090000
END:DAYLIGHT
BEGIN:STANDARD
TZOFFSETFROM:-0600
TZOFFSETTO:-0700
TZNAME:MST
DTSTART:20261101T080000
END:STANDARD
END:VTIMEZONE
BEGIN:VEVENT
DTSTART;TZID=America/Denver:20250219T173000
DTEND;TZID=America/Denver:20250219T183000
DTSTAMP:20260422T035833
CREATED:20250126T221725Z
LAST-MODIFIED:20250218T180918Z
UID:44905-1739986200-1739989800@www.mountaincloud.org
SUMMARY:Wisdom Wednesday: "Sources of Steady" with Colleen Shaughnessy
DESCRIPTION:Wednesday\, February 19th  |  5:30–6:30 PM\nMeditation begins at 5:30 pm MT\, followed by the Dharma Talk (teisho) at 6:00 pm MT \nLed by Colleen Shaughnessy\, this evening features meditation\, a brief dharma talk\, an opportunity to ask questions\, and a chance to share your experiences with practice. Inspired by the topic of “Everyday Zen” and the quote “This practice invites a steady gaze” from Valerie’s recent talk\, Colleen will share her own sources of steadiness and groundedness and invite others to share theirs. \nThese sessions are designed to enhance your practice and also provide an opportunity to connect with the local sangha community. This hybrid event is free and registration is not required. Please arrive five to ten minutes ahead of the scheduled time.  \nTo attend in person\, please read and follow our COVID-19 Protocols for MCZC’s current policies on masks\, vaccinations\, and testing. \nTo participate online\, please click on the zoom link below.\n \nsit.mountaincloud.org\nPasscode: mountain22 \nTrouble logging on to our online sits? Click here for guidance. Need help with time zone conversion? Use the World Time Buddy \n∞ \n\nColleen Shaughnessy has been a Zen practitioner for 15 years and a member of Mountain Cloud since 2022. She lives in Taos\, NM\, assists Scott with his Beginner Retreats\, and serves as the Executive Director of Youth Heartline\, a child welfare and family stability non-profit serving northeast New Mexico.
URL:https://www.mountaincloud.org/event/wisdom-wednesday-with-colleen-shaughnessy-02-19-2025/
LOCATION:Mountain Cloud Zen Center and Online via Zoom
CATEGORIES:Talks & Workshops,Wisdom Wednesday
ATTACH;FMTTYPE=image/jpeg:https://www.mountaincloud.org/wp-content/uploads/2024/07/Colleen-Photo.jpg
END:VEVENT
END:VCALENDAR